BEGIN:VCALENDAR
VERSION:2.0
PRODID:-//Terrace@12 Toastmasters - ECPv6.1.3//NONSGML v1.0//EN
CALSCALE:GREGORIAN
METHOD:PUBLISH
X-WR-CALNAME:Terrace@12 Toastmasters
X-ORIGINAL-URL:https://www.terraceat12.org.nz
X-WR-CALDESC:Events for Terrace@12 Toastmasters
REFRESH-INTERVAL;VALUE=DURATION:PT1H
X-Robots-Tag:noindex
X-PUBLISHED-TTL:PT1H
BEGIN:VTIMEZONE
TZID:Pacific/Auckland
BEGIN:STANDARD
TZOFFSETFROM:+1300
TZOFFSETTO:+1200
TZNAME:NZST
DTSTART:20190406T140000
END:STANDARD
BEGIN:DAYLIGHT
TZOFFSETFROM:+1200
TZOFFSETTO:+1300
TZNAME:NZDT
DTSTART:20190928T140000
END:DAYLIGHT
END:VTIMEZONE
BEGIN:VEVENT
DTSTART;VALUE=DATE:20190316
DTEND;VALUE=DATE:20190317
DTSTAMP:20260426T000957
CREATED:20180602T085949Z
LAST-MODIFIED:20181108T212031Z
UID:2427-1552694400-1552780799@www.terraceat12.org.nz
SUMMARY:Division G Conference
DESCRIPTION:
URL:https://www.terraceat12.org.nz/event/division-g-conference
LOCATION:Wellington\, New Zealand
END:VEVENT
END:VCALENDAR